BEGIN:VCALENDAR
VERSION:2.0
PRODID:icalendar-ruby
CALSCALE:GREGORIAN
METHOD:PUBLISH
BEGIN:VEVENT
DTSTAMP:20260423T152420Z
UID:27-1058635@slelife.com
DTSTART:20260916T230000Z
DTEND:20260917T010000Z
CLASS:PUBLIC
CREATED:20260423T093926
DESCRIPTION:
LAST-MODIFIED:20260423T093926
LOCATION:1079 Matanzas St. Lake Helen Fl 32744
SUMMARY:Discipulado en Casa
URL;VALUE=URI:https://www.slelife.com/events/discipulado-en-casa/2026-09-16
ATTACH;FILENAME=Image.png;FMTTYPE=image/png:https://dq5pwpg1q8ru0.cloudfron
 t.net/2024/10/28/17/22/39/da225e55-5187-41e9-a113-b882482a6f26/Image.png
END:VEVENT
END:VCALENDAR
