BEGIN:VCALENDAR
VERSION:2.0
PRODID:icalendar-ruby
CALSCALE:GREGORIAN
METHOD:PUBLISH
BEGIN:VEVENT
DTSTAMP:20260423T022538Z
UID:27-1057307@slelife.com
DTSTART:20260722T230000Z
DTEND:20260723T010000Z
CLASS:PUBLIC
CREATED:20260422T211502
DESCRIPTION:
LAST-MODIFIED:20260422T211502
LOCATION:1079 Matanzas St. Lake Helen Fl 32744
SUMMARY:Discipulado en Casa
URL;VALUE=URI:https://www.slelife.com/events/discipulado-en-casa/2026-07-22
ATTACH;FILENAME=Image.png;FMTTYPE=image/png:https://dq5pwpg1q8ru0.cloudfron
 t.net/2024/10/28/17/22/39/da225e55-5187-41e9-a113-b882482a6f26/Image.png
END:VEVENT
END:VCALENDAR
